BEGIN:VCALENDAR
VERSION:2.0
PRODID:-//Tere Lopez Yoga - ECPv6.15.20//NONSGML v1.0//EN
CALSCALE:GREGORIAN
METHOD:PUBLISH
X-WR-CALNAME:Tere Lopez Yoga
X-ORIGINAL-URL:https://terelopezyoga.com
X-WR-CALDESC:Events for Tere Lopez Yoga
REFRESH-INTERVAL;VALUE=DURATION:PT1H
X-Robots-Tag:noindex
X-PUBLISHED-TTL:PT1H
BEGIN:VTIMEZONE
TZID:America/Toronto
BEGIN:DAYLIGHT
TZOFFSETFROM:-0500
TZOFFSETTO:-0400
TZNAME:EDT
DTSTART:20210314T070000
END:DAYLIGHT
BEGIN:STANDARD
TZOFFSETFROM:-0400
TZOFFSETTO:-0500
TZNAME:EST
DTSTART:20211107T060000
END:STANDARD
BEGIN:DAYLIGHT
TZOFFSETFROM:-0500
TZOFFSETTO:-0400
TZNAME:EDT
DTSTART:20220313T070000
END:DAYLIGHT
BEGIN:STANDARD
TZOFFSETFROM:-0400
TZOFFSETTO:-0500
TZNAME:EST
DTSTART:20221106T060000
END:STANDARD
BEGIN:DAYLIGHT
TZOFFSETFROM:-0500
TZOFFSETTO:-0400
TZNAME:EDT
DTSTART:20230312T070000
END:DAYLIGHT
BEGIN:STANDARD
TZOFFSETFROM:-0400
TZOFFSETTO:-0500
TZNAME:EST
DTSTART:20231105T060000
END:STANDARD
BEGIN:DAYLIGHT
TZOFFSETFROM:-0500
TZOFFSETTO:-0400
TZNAME:EDT
DTSTART:20240310T070000
END:DAYLIGHT
BEGIN:STANDARD
TZOFFSETFROM:-0400
TZOFFSETTO:-0500
TZNAME:EST
DTSTART:20241103T060000
END:STANDARD
BEGIN:DAYLIGHT
TZOFFSETFROM:-0500
TZOFFSETTO:-0400
TZNAME:EDT
DTSTART:20250309T070000
END:DAYLIGHT
BEGIN:STANDARD
TZOFFSETFROM:-0400
TZOFFSETTO:-0500
TZNAME:EST
DTSTART:20251102T060000
END:STANDARD
BEGIN:DAYLIGHT
TZOFFSETFROM:-0500
TZOFFSETTO:-0400
TZNAME:EDT
DTSTART:20260308T070000
END:DAYLIGHT
BEGIN:STANDARD
TZOFFSETFROM:-0400
TZOFFSETTO:-0500
TZNAME:EST
DTSTART:20261101T060000
END:STANDARD
END:VTIMEZONE
BEGIN:VEVENT
DTSTART;TZID=America/Toronto:20250317T093000
DTEND;TZID=America/Toronto:20250317T103000
DTSTAMP:20260425T095126
CREATED:20240908T163458Z
LAST-MODIFIED:20250309T131951Z
UID:3206-1742203800-1742207400@terelopezyoga.com
SUMMARY:Vinyasa Yoga
DESCRIPTION:Slow movement flows synchronized with the breath\, emphasizing transitions and dynamic sequences. This is a regular-temperature room. iGita is gorgeous\, so expect an inspiring backdrop!
URL:https://terelopezyoga.com/practice-with-me/slow-dynamic-freestyle-flow-2-2/
LOCATION:iGita Yoga Studio\, 467 Speers Rd\, Oakville\, Ontario\, L6K 3S4\, Canada
ATTACH;FMTTYPE=image/jpeg:https://terelopezyoga.com/wp-content/uploads/2024/09/SnapPhotoStudioSquareOne_Mississauga9-scaled.jpg
END:VEVENT
BEGIN:VEVENT
DTSTART;TZID=America/Toronto:20250115T113000
DTEND;TZID=America/Toronto:20250115T123000
DTSTAMP:20260425T095126
CREATED:20241215T135422Z
LAST-MODIFIED:20250109T155119Z
UID:3263-1736940600-1736944200@terelopezyoga.com
SUMMARY:Grounding Flow
DESCRIPTION:Slow movement flow synchronized with the breath\, with emphasis on a grounding sequence\, letting our body be soft on the earth and turning inward. \n\n\n\nThe studio provides props. \n\n\n\n\n\n\n\n\n\n\n\n\n\n\n\n\n\n\n\n\nRegister
URL:https://terelopezyoga.com/practice-with-me/https-www-amomentofgraceyoga-ca-offerings/
LOCATION:A Moment of Grace\, 1500 Upper Middle Rd\, Burlington\, ON\, L7P3P5\, Canada
CATEGORIES:Studio yoga class
ATTACH;FMTTYPE=image/jpeg:https://terelopezyoga.com/wp-content/uploads/2024/12/sq112-scaled.jpg
END:VEVENT
BEGIN:VEVENT
DTSTART;TZID=America/Toronto:20250115T100000
DTEND;TZID=America/Toronto:20250115T111000
DTSTAMP:20260425T095126
CREATED:20241215T134527Z
LAST-MODIFIED:20250109T155039Z
UID:3260-1736935200-1736939400@terelopezyoga.com
SUMMARY:Presence: Slow Flow
DESCRIPTION:Defined and Smooth Transitions in our Yoga Flow\n\n\n\nAn intermediate class with moderate level of challenge. This class will invigorate your day with smooth transitions\, strength in the flows\, and grounding on your mat. \n\n\n\nThe studio provides props.
URL:https://terelopezyoga.com/practice-with-me/transitions-and-variations-of-down-dog-and-up-dog-in-yoga-2/
LOCATION:A Moment of Grace\, 1500 Upper Middle Rd\, Burlington\, ON\, L7P3P5\, Canada
CATEGORIES:Studio yoga class
ATTACH;FMTTYPE=image/jpeg:https://terelopezyoga.com/wp-content/uploads/2021/12/tere_476-exposureedit-scaled.jpg
END:VEVENT
BEGIN:VEVENT
DTSTART;TZID=America/Toronto:20250112T100000
DTEND;TZID=America/Toronto:20250112T114800
DTSTAMP:20260425T095126
CREATED:20211221T231609Z
LAST-MODIFIED:20241215T145555Z
UID:1811-1736676000-1736682480@terelopezyoga.com
SUMMARY:Parabola Flow
DESCRIPTION:Parabola flow is an act of reclaiming energy and immunity amid the winter months. Aligned with the principles of Ayurveda\, it tries to regulate the excess of Kapha (elements of earth and water)\, which is known for its qualities of heaviness\, coldness\, and dampness. Let’s increase circulation and reduce mental fog by balancing the natural tendency to go inward with the need to move and find clarity.Fostering creative yoga is a journey through various shapes and patterns\, like the universe. Our flow sequence mirrors the U-shaped curve of a parabola\, a concept from Mathematics. Experience the unique properties of a parabola with your own body\, including the directrix\, the axis\, and the vertex.As we embark on this unique journey with our masterclass\, expect a warm-up\, two waves of repetitions and progressions\, a cool-down\, and a Savasana. This is not your typical yoga class but a transformative experience. \n\n\n\nYou can read related content on my blog\, Improvisations. \n\n\n\nBring your yoga mat and any block if you need to. \n\n\n\nUpon signing up\, you will receive a personalized video message from me\, packed with valuable tips to elevate your practice. Please provide your email address to ensure you don’t miss out on this exclusive content. In the meantime\, look to the parabola gallery below to familiarize yourself with the abundant ways to create parabolas in our yoga world. \n\n\n\nCancellation policy:If you need to cancel and give at least 20 hours notice\, you will receive a total refund or\, optionally\, a credit. If I need to cancel abruptly due to an unexpected event\, such as terrible weather\, you will receive a total refund or a credit.If you cancel with less than 20 hours’ notice\, a late cancellation fee of $16 will be applied.You don’t receive a refund or credit if you are a no-show.
URL:https://terelopezyoga.com/practice-with-me/parabola-flow/
LOCATION:Visual Arts Brampton\, 1 Bartley Bull Pkwy\, Brampton\, ON\, L6W 3T7\, Canada
CATEGORIES:Master Class
ATTACH;FMTTYPE=image/jpeg:https://terelopezyoga.com/wp-content/uploads/2021/12/Telojo_Image-edit_Final-scaled.jpg
END:VEVENT
BEGIN:VEVENT
DTSTART;TZID=America/Toronto:20240922T100000
DTEND;TZID=America/Toronto:20240922T112000
DTSTAMP:20260425T095126
CREATED:20240906T212430Z
LAST-MODIFIED:20240909T115650Z
UID:3199-1726999200-1727004000@terelopezyoga.com
SUMMARY:September Equinox Outdoor Yoga
DESCRIPTION:Let’s get together in nature on a day when the Sun crosses the celestial equator—the imaginary line in the sky above Earth’s equator. The Earth’s rotational axis is neither tilted away from nor toward the Sun\, and the times of day and night are roughly equal. \n\n\n\nFor me\, it is a moment to say goodbye to summer\, the heat\, and the green color. I will miss them! It is also a time to welcome the divinity of vibrant\, colorful life: orangish\, reddish\, yellowish at its best. Therefore\, it is a moment of connection with others. \n\n\n\nThe best way is out and in yoga! \n\n\n\nSo we will have: \n\n\n\n\nSlow yoga movement that reflects the moment of slowing down.\n\n\n\nThere will be invitations to do poses with the support of others. Completely optional.\n\n\n\nMeditation that focuses on both breath and the breezes (the breath of Earth!)\n\n\n\nAt the end\, Julia\, a professional photographer\, takes a few group pictures. You can receive them in the email you provide. It is entirely optional.\n\n\n\n\nPlease bring warm layers. To make it fun and very optional\, dress in both seasons: green and a vibrant color of your choice (red\, orange\, or yellow). Wear a top representing summer and a button representing fall or vice versa. Equinox!Bring your mat and any beverage if you need to.You pay what you can donate! Feel free to reach out! \n\n\n\n\nRegister
URL:https://terelopezyoga.com/practice-with-me/live-streaming-slow-dynamic-flow-2-2/
LOCATION:Northrup Park\, Northampton St.\, Brampton\, Ontario\, L6S 3Y7\, Canada
ATTACH;FMTTYPE=image/jpeg:https://terelopezyoga.com/wp-content/uploads/2024/09/IMG-20240904-WA0079-scaled.jpg
END:VEVENT
BEGIN:VEVENT
DTSTART;TZID=America/Toronto:20240801T080000
DTEND;TZID=America/Toronto:20240801T170000
DTSTAMP:20260425T095126
CREATED:20240801T114323Z
LAST-MODIFIED:20240801T114324Z
UID:3182-1722499200-1722531600@terelopezyoga.com
SUMMARY:Support
DESCRIPTION:
URL:https://terelopezyoga.com/practice-with-me/support/
ATTACH;FMTTYPE=:
END:VEVENT
BEGIN:VEVENT
DTSTART;TZID=America/Toronto:20240713T103000
DTEND;TZID=America/Toronto:20240713T115000
DTSTAMP:20260425T095126
CREATED:20240309T012218Z
LAST-MODIFIED:20240309T142703Z
UID:3060-1720866600-1720871400@terelopezyoga.com
SUMMARY:Transitions and Variations of Down Dog and Up Dog in Yoga
DESCRIPTION:Playful Transitions and Variations of Down Dog and Up Dog in Yoga\n\n\n\nDownward and Upward Facing Dog are yoga poses that originated from observing dogs and appreciating the gracious way they stretch and move. Sometimes\, teachers call these poses using shortcuts: down-dog and up-dog. \n\n\n\nThis one-hour-20-minute class at PAMA intends to resonate with an art exhibition about dogs! It will navigate through the dog poses (up and down dog) carefully and playfully. We will use them as a baseline to transition to other basic postures and explore different variations of it\, some simple dogs\, soft and quiet\, and others funky and revolutionary! \n\n\n\nWith this consistent body canine imitation\, we may discover what humans have to do with dogs and each other. \n\n\n\nThe class has a maximum of 20 participants. Please bring a mat and any other yoga props required.
URL:https://terelopezyoga.com/practice-with-me/transitions-and-variations-of-down-dog-and-up-dog-in-yoga/
LOCATION:PAMA\, 9 Wellington St. E\, Brampton\, Ontario\, L6W 1Y1\, Canada
CATEGORIES:Museum Yoga
ATTACH;FMTTYPE=image/jpeg:https://terelopezyoga.com/wp-content/uploads/2022/01/tere_527__-exposureedit-scaled-e1642460687209.jpg
END:VEVENT
BEGIN:VEVENT
DTSTART;TZID=America/Toronto:20230830T060000
DTEND;TZID=America/Toronto:20230830T073000
DTSTAMP:20260425T095126
CREATED:20220117T231009Z
LAST-MODIFIED:20230802T123323Z
UID:2763-1693375200-1693380600@terelopezyoga.com
SUMMARY:Sunrise Women’s Yoga on the Blue Moon Day. Bonus: Photo Taken for Us.
DESCRIPTION:Come at sunrise to celebrate the awakening tides of the Sun on a date when the Moon is Full for the second time in a month! The intimate connection of the Moon and the female energy will be honored with the first rays of sunshine in a gentle\, uplifting\, and soulful movement led by yoga instructor Tere Lopez. To capture this divine experience\, photographer Julia will take a few pictures of the women’s group. As a participant\, you will receive one digital image. \n\n\n\nIn the end\, you can enjoy complimentary tea as we circle in a supportive and empowering approach getting ready to start a fantastic day! \n\n\n\nMaximum participants: 10 (get your spot!) We will meet at the parking lot of the tennis center.
URL:https://terelopezyoga.com/practice-with-me/live-streaming-slow-dynamic-flow-2/
LOCATION:Chinguacousy Park\, Brampton\, 9050 Bramalea Road\, Brampton\, Ontario\, L6S 6G7\, Canada
ATTACH;FMTTYPE=image/jpeg:https://terelopezyoga.com/wp-content/uploads/2022/01/sq118.jpg
END:VEVENT
BEGIN:VEVENT
DTSTART;TZID=America/Toronto:20221113T100000
DTEND;TZID=America/Toronto:20221113T114800
DTSTAMP:20260425T095126
CREATED:20211221T231846Z
LAST-MODIFIED:20220522T120611Z
UID:1814-1668333600-1668340080@terelopezyoga.com
SUMMARY:Flirting with Vasisthasana
DESCRIPTION:This signature class is all about Vasisthasana\, a challenging variation of a full-side plank. Vasistha pose aids expansiveness\, feelings of blooming\, and a desire to embrace life in its fullness. It is no coincidence that we will have it in the resonance of spring. If we need to bring this class again\, Autumn is our next choice because it is a slow change into warm color. But\, like a spring\, it also heralds the onset of a sweet transition. Scrutinizing this pose\, the class has a warmup for the whole body\, such as rotations and slight extension of the spine\, core engagement\, stretching the inner thighs\, and hamstrings\, and creating space in the front of the pelvis. The sequence will build balance and mental poise to flirt with it in many other poses that contain the same principles. The content is curated to increment the possibility to draw it closer to us. \n\n\n\nHave a yoga block handy in case you need it.
URL:https://terelopezyoga.com/practice-with-me/flirting-with-vasisthasana/
LOCATION:Amaroo Transformation and Wellness Studio\, 2914 S Sheridan Way Unit 200\, Oakville\, Ontario\, L6J 7J8\, Canada
ATTACH;FMTTYPE=image/jpeg:https://terelopezyoga.com/wp-content/uploads/2021/12/tere_430-exposureedit-scaled.jpg
END:VEVENT
BEGIN:VEVENT
DTSTART;TZID=America/Toronto:20220716T110000
DTEND;TZID=America/Toronto:20220716T121000
DTSTAMP:20260425T095126
CREATED:20220623T140005Z
LAST-MODIFIED:20220623T210750Z
UID:2942-1657969200-1657973400@terelopezyoga.com
SUMMARY:Outdoor Yoga
DESCRIPTION:Let’s get out to a park \n\n\n\nConnecting with each other \n\n\n\nDancing with our breath \n\n\n\nThrough yoga and air \n\n\n\nLet’s move and stretch \n\n\n\nSlowly creating \n\n\n\nRhythm and faith \n\n\n\nWith the Sun’s rays
URL:https://terelopezyoga.com/practice-with-me/outdoor-yoga/
LOCATION:Victoria Park\, 43 Brown Street\, Milton\, Ontario\, Canada
CATEGORIES:Outdoor Yoga
ATTACH;FMTTYPE=image/jpeg:https://terelopezyoga.com/wp-content/uploads/2022/01/tere_527__-exposureedit-scaled-e1642460687209.jpg
END:VEVENT
BEGIN:VEVENT
DTSTART;TZID=America/Toronto:20220217T190000
DTEND;TZID=America/Toronto:20220217T200000
DTSTAMP:20260425T095126
CREATED:20220117T230258Z
LAST-MODIFIED:20220131T173806Z
UID:2747-1645124400-1645128000@terelopezyoga.com
SUMMARY:Live Streaming Slow & Dynamic Flow
DESCRIPTION:
URL:https://terelopezyoga.com/practice-with-me/live-streaming-slow-dynamic-flow/
LOCATION:Zoom Live Streaming
ATTACH;FMTTYPE=image/jpeg:https://terelopezyoga.com/wp-content/uploads/2022/01/tere_527__-exposureedit-scaled-e1642460687209.jpg
END:VEVENT
END:VCALENDAR